BEGIN:VCALENDAR
VERSION:2.0
PRODID:SchoolNow
CALSCALE:GREGORIAN
BEGIN:VEVENT
UID:e7a1b9d8-93d1-11f0-95df-02dcb7a45abd
DTSTAMP:20260223T221833Z
SUMMARY:CDD Board Meeting - Feb. 2026
LOCATION:Panther Trace Clubhouse\, 12515 Bramfield Drive\, Riverview\, Flor
 ida
URL;VALUE=URI:https://www.mypanthertrace.net/calendar/8632695/cdd-board-mee
 ting-feb-2026
DTSTART:20260224T230000Z
DTEND:20260225T000000Z
ATTACH;FILENAME=PT1 2026-02-24 Agenda Package (revised 02-23).pdf;FMTTYPE=a
 pplication/pdf:https://campussuite-storage.s3.amazonaws.com/prod/1558799/2
 6a90324-a7df-11e9-b42b-0a9ba80c3a40/3073522/5c94f524-1105-11f1-a875-0e2a2a
 433083/file/PT1 2026-02-24 Agenda Package (revised 02-23).pdf
END:VEVENT
END:VCALENDAR
