BEGIN:VCALENDAR
VERSION:2.0
PRODID:SchoolNow
CALSCALE:GREGORIAN
BEGIN:VEVENT
UID:f181e6ee-93d1-11f0-8e25-0a58a9feac02
DTSTAMP:20260317T201420Z
SUMMARY:CDD Board Meeting - Mar. 2026
LOCATION:Panther Trace Clubhouse\, 12515 Bramfield Drive\, Riverview\, Flor
 ida
URL;VALUE=URI:https://www.mypanthertrace.net/calendar/8632696/cdd-board-mee
 ting-mar-2026
DTSTART:20260324T220000Z
DTEND:20260324T230000Z
ATTACH;FILENAME=PT1 2026-03-24 Agenda Package.pdf;FMTTYPE=application/pdf:h
 ttps://campussuite-storage.s3.amazonaws.com/prod/1558799/26a90324-a7df-11e
 9-b42b-0a9ba80c3a40/3080756/5fb1a182-223d-11f1-bcd2-0a58a9feac02/file/PT1 
 2026-03-24 Agenda Package.pdf
END:VEVENT
END:VCALENDAR
